BEGIN:VCALENDAR
VERSION:2.0
PRODID:-//Wisconsin Maritime Museum - ECPv6.15.18//NONSGML v1.0//EN
CALSCALE:GREGORIAN
METHOD:PUBLISH
X-WR-CALNAME:Wisconsin Maritime Museum
X-ORIGINAL-URL:https://www.wisconsinmaritime.org
X-WR-CALDESC:Events for Wisconsin Maritime Museum
REFRESH-INTERVAL;VALUE=DURATION:PT1H
X-Robots-Tag:noindex
X-PUBLISHED-TTL:PT1H
BEGIN:VTIMEZONE
TZID:America/Chicago
BEGIN:DAYLIGHT
TZOFFSETFROM:-0600
TZOFFSETTO:-0500
TZNAME:CDT
DTSTART:20250309T080000
END:DAYLIGHT
BEGIN:STANDARD
TZOFFSETFROM:-0500
TZOFFSETTO:-0600
TZNAME:CST
DTSTART:20251102T070000
END:STANDARD
BEGIN:DAYLIGHT
TZOFFSETFROM:-0600
TZOFFSETTO:-0500
TZNAME:CDT
DTSTART:20260308T080000
END:DAYLIGHT
BEGIN:STANDARD
TZOFFSETFROM:-0500
TZOFFSETTO:-0600
TZNAME:CST
DTSTART:20261101T070000
END:STANDARD
BEGIN:DAYLIGHT
TZOFFSETFROM:-0600
TZOFFSETTO:-0500
TZNAME:CDT
DTSTART:20270314T080000
END:DAYLIGHT
BEGIN:STANDARD
TZOFFSETFROM:-0500
TZOFFSETTO:-0600
TZNAME:CST
DTSTART:20271107T070000
END:STANDARD
END:VTIMEZONE
BEGIN:VEVENT
DTSTART;TZID=America/Chicago:20260308T123000
DTEND;TZID=America/Chicago:20260308T153000
DTSTAMP:20260419T172820
CREATED:20260121T153055Z
LAST-MODIFIED:20260121T153055Z
UID:10000601-1772973000-1772983800@www.wisconsinmaritime.org
SUMMARY:Nook & Cranny Tour Aboard USS COBIA
DESCRIPTION:Have you ever wanted to see or know more about USS COBIA than what is offered on the regular tour? Get a behind-the-scenes tour of our World War II era submarine and explore spaces not usually open to the general public with one of our knowledgeable guides!\n\nThe cost is $45 for non-members and $40 for WMM Members. Space is limited\, so reservations are required. Purchase your tickets here: https://bit.ly/44leQVX\nPlease note\, this tour is not recommended for children under age 12 due to the length of the tour.
URL:https://www.wisconsinmaritime.org/event/nook-cranny-tour-aboard-uss-cobia-3/
LOCATION:Wisconsin Maritime Museum
CATEGORIES:Special Tours
ATTACH;FMTTYPE=image/jpeg:https://www.wisconsinmaritime.org/wp-content/uploads/2026/01/Nook-Cranny-1.jpg
END:VEVENT
BEGIN:VEVENT
DTSTART;TZID=America/Chicago:20260305T183000
DTEND;TZID=America/Chicago:20260305T200000
DTSTAMP:20260419T172820
CREATED:20251222T170621Z
LAST-MODIFIED:20251222T170621Z
UID:10000584-1772735400-1772740800@www.wisconsinmaritime.org
SUMMARY:Think & Drink Series: The Peshtigo Fire
DESCRIPTION:We invite you to join us for our March Think & Drink program\, where ecologist and research scientist with the Wisconsin Department of Natural Resources\, Jed Meunier\, will take us through the harrowing night of October 8th\, 1871. The Peshtigo Fire became the deadliest wildfire in recorded history. \nJed Meunier\, using tree-ring and fire-scar evidence\, challenges the belief that logging alone caused the disaster. In this presentation\, he shows that extreme drought\, regional fires\, and winds created the conditions for a catastrophe. This talk explores what the event can teach us about wildfire risk today and into the future. \nThis installment will take place on Thursday\, March 5th at 6:30pm\, at the Wisconsin Maritime Museum. \nAdmission is free and open to the public\, with refreshments available for purchase. Each event features a specialty cocktail. \nDoors and bar open at 6:00 PM. Both alcoholic and non-alcoholic beverages will be available for purchase at the limited bar. The talk and livestream will begin at 6:30 PM. To access the livestream of this event\, please register here: https://forms.gle/FK8U46gDM6Rwsdb47 \nThe Wisconsin Maritime Museum is located at 75 Maritime Drive\, Manitowoc\, WI. For more information about this talk and upcoming events at the Museum\, please visit our website: wisconsinmaritime.org \nPlease note: although these events incorporate a thematic drink\, there is no requirement or emphasis on alcohol consumption. If you or a loved one is struggling with alcohol and/or drug abuse\, please reach out to the national substance abuse helpline at 1-800-662-HELP.
URL:https://www.wisconsinmaritime.org/event/think-drink-series-the-peshtigo-fire/
LOCATION:Wisconsin Maritime Museum
CATEGORIES:Think 'n Drink
ATTACH;FMTTYPE=image/jpeg:https://www.wisconsinmaritime.org/wp-content/uploads/2025/12/March.jpg
END:VEVENT
BEGIN:VEVENT
DTSTART;TZID=America/Chicago:20260228T100000
DTEND;TZID=America/Chicago:20260228T160000
DTSTAMP:20260419T172820
CREATED:20260120T184619Z
LAST-MODIFIED:20260120T184619Z
UID:10000600-1772272800-1772294400@www.wisconsinmaritime.org
SUMMARY:Living History Tours aboard USS COBIA
DESCRIPTION:Join us on Saturday\, February 28th\, for Living History Tours aboard USS COBIA!\nMembers of the USS COBIA Living History Crew will be stationed throughout the submarine all day (10:00 AM-4:00 PM) to welcome guests and answer questions.\nAdmission is included with regular Museum + Submarine admission. WMM Members are always FREE!
URL:https://www.wisconsinmaritime.org/event/living-history-tours-aboard-uss-cobia-2/
LOCATION:Wisconsin Maritime Museum
ATTACH;FMTTYPE=image/jpeg:https://www.wisconsinmaritime.org/wp-content/uploads/2026/01/Living-History-Tours-1.jpg
END:VEVENT
BEGIN:VEVENT
DTSTART;TZID=America/Chicago:20260220T160000
DTEND;TZID=America/Chicago:20260220T190000
DTSTAMP:20260419T172820
CREATED:20251222T170854Z
LAST-MODIFIED:20251222T170854Z
UID:10000585-1771603200-1771614000@www.wisconsinmaritime.org
SUMMARY:Sensory Friendly Evening
DESCRIPTION:Museums are for everyone! Join us for a sensory-friendly evening designed for anyone looking for a more relaxed museum experience\, no matter their age or ability level\, as well as their caregivers and families. \nAt this FREE event\, you’ll have access to the Museum as well as an opportunity to take a sensory-friendly submarine tour aboard USS COBIA! Loud exhibit sounds will be turned down and our Sensory Backpacks will be out! These backpacks include: visual schedules\, weighted lap blankets\, social narratives\, headphones\, fidgets and a communication book. Please note\, these backpacks are free to check out for use in the Museum anytime. \nThe Wisconsin Maritime Museum welcomes all people to connect with Wisconsin’s waterways. Learn more about our upcoming events here: https://bit.ly/WMMEventsCalendar“
URL:https://www.wisconsinmaritime.org/event/sensory-friendly-evening/
LOCATION:Wisconsin Maritime Museum
CATEGORIES:Family
ATTACH;FMTTYPE=image/png:https://www.wisconsinmaritime.org/wp-content/uploads/2025/12/1.png
END:VEVENT
BEGIN:VEVENT
DTSTART;TZID=America/Chicago:20260215T123000
DTEND;TZID=America/Chicago:20260215T153000
DTSTAMP:20260419T172820
CREATED:20260120T184427Z
LAST-MODIFIED:20260121T152143Z
UID:10000599-1771158600-1771169400@www.wisconsinmaritime.org
SUMMARY:Diving Deeper Tour
DESCRIPTION:Join submarine veteran Greg Miller on an in-depth tour aboard the USS COBIA! You can learn what it was really like living and working on a submarine with 80 other crew members for over two months at a time from someone who experienced a diesel boat\, just our very own COBIA. This two-hour tour focuses more on personal stories\, so feel free to ask Greg all of your submarine questions!\n\nThe cost is $35 for non-members and $30 for WMM Members. Space is limited\, so reservations are required. Reserve your tickets here: https://bit.ly/44leQVX\n\nPlease note that this tour is not recommended for children under 12 due to its length
URL:https://www.wisconsinmaritime.org/event/diving-deeper-tour/
LOCATION:Wisconsin Maritime Museum
ATTACH;FMTTYPE=image/jpeg:https://www.wisconsinmaritime.org/wp-content/uploads/2026/01/Diving-Deeper-Feb-15th.jpg
END:VEVENT
BEGIN:VEVENT
DTSTART;TZID=America/Chicago:20260212T183000
DTEND;TZID=America/Chicago:20260212T210000
DTSTAMP:20260419T172820
CREATED:20260119T195122Z
LAST-MODIFIED:20260119T195719Z
UID:10000595-1770921000-1770930000@www.wisconsinmaritime.org
SUMMARY:Valenwine & Paint
DESCRIPTION:Looking for some cute Valentine’s\, Gal-entine’s or Pal-entine’s week ideas? Look no further! The Wisconsin Maritime Museum is partnering with Manitowoc’s local art studio\, Glaze and Paint for a casual evening of painting\, wine\, charcuterie\, and fun! Each admission will cover two people (so grab your partner\, friend\, or any companion to join you)\, all materials\, and two glasses of wine. \nThere will also be charcuterie and access to a cash bar\, with both alcoholic and NA beverages\, during the event (please remember you must be 21+ in order to drink\, so have your ID with you). \nPurchase your tickets here: https://shop.wisconsinmaritime.org/product/valenwine-paint-2026/XVVLW2YN66H6J52H5QPDIYPM?cp=true&sa=false&sbp=false&q=false&category_id=34
URL:https://www.wisconsinmaritime.org/event/valenwine-paint/
LOCATION:Wisconsin Maritime Museum
CATEGORIES:Adult
ATTACH;FMTTYPE=image/jpeg:https://www.wisconsinmaritime.org/wp-content/uploads/2026/01/Social-Media-Post-1-2.jpg
END:VEVENT
BEGIN:VEVENT
DTSTART;TZID=America/Chicago:20260208T123000
DTEND;TZID=America/Chicago:20260208T153000
DTSTAMP:20260419T172820
CREATED:20260120T184059Z
LAST-MODIFIED:20260120T184059Z
UID:10000598-1770553800-1770564600@www.wisconsinmaritime.org
SUMMARY:Nook & Cranny Tour Aboard USS COBIA
DESCRIPTION:Have you ever wanted to see or know more about USS COBIA than what is offered on the regular tour? Get a behind-the-scenes tour of our World War II era submarine and explore spaces not usually open to the general public with one of our knowledgeable guides!\n\nThe cost is $45 for non-members and $40 for WMM Members. Space is limited\, so reservations are required. Purchase your tickets here: https://bit.ly/44leQVX\nPlease note\, this tour is not recommended for children under age 12 due to the length of the tour.
URL:https://www.wisconsinmaritime.org/event/nook-cranny-tour-aboard-uss-cobia-2/
LOCATION:Wisconsin Maritime Museum
CATEGORIES:Admission,Adult,Special Tours
ATTACH;FMTTYPE=image/jpeg:https://www.wisconsinmaritime.org/wp-content/uploads/2026/01/Nook-Cranny-Feb-8.jpg
END:VEVENT
BEGIN:VEVENT
DTSTART;TZID=America/Chicago:20260205T183000
DTEND;TZID=America/Chicago:20260205T200000
DTSTAMP:20260419T172820
CREATED:20251222T165427Z
LAST-MODIFIED:20251222T165427Z
UID:10000583-1770316200-1770321600@www.wisconsinmaritime.org
SUMMARY:Think & Drink Series: The Sinking of the Lady Elgin
DESCRIPTION:Stop in at the Wisconsin Maritime Museum on the evening of February 5th\, 2026\, to learn the fascinating history behind the collision and sinking of a luxurious sidewheel steamer\, Lady Elgin\, and how it came to be known as one of the worst maritime catastrophes in the Great Lakes. \nOur speaker tonight is the author of Lost Lady: The Lady Elgin Tragedy\, M. Paul Hollander. He recounts the 1860 wreck of the Lady Elgin\, one of the most devastating maritime disasters in Great Lakes history. The 90-minute presentation includes the author’s personal connection to the tragedy\, the historical events leading up to it\, and eyewitness accounts. \nThis installment will take place on Thursday\, February 5th\, at 6:30 pm\, at the Wisconsin Maritime Museum. \nAdmission is free and open to the public\, with refreshments available for purchase. Each event features a specialty cocktail. \nDoors and bar open at 6:00 PM. Both alcoholic and non-alcoholic beverages will be available for purchase at the limited bar. The talk and livestream will begin at 6:30 PM. To access the livestream of this event\, please register here: https://forms.gle/9uVKjxkDrRYh4BDL8. \nThe Wisconsin Maritime Museum is located at 75 Maritime Drive\, Manitowoc\, WI. For more information about this talk and upcoming events at the Museum\, please visit our website: wisconsinmaritime.org \nPlease note: although these events incorporate a thematic drink\, there is no requirement or emphasis on alcohol consumption. If you or a loved one is struggling with alcohol and/or drug abuse\, please reach out to the national substance abuse helpline at 1-800-662-HELP.
URL:https://www.wisconsinmaritime.org/event/think-drink-series-the-sinking-of-the-lady-elgin/
LOCATION:Wisconsin Maritime Museum
CATEGORIES:Educational,Think 'n Drink
ATTACH;FMTTYPE=image/jpeg:https://www.wisconsinmaritime.org/wp-content/uploads/2025/12/February.jpg
END:VEVENT
BEGIN:VEVENT
DTSTART;TZID=America/Chicago:20260124T100000
DTEND;TZID=America/Chicago:20260124T160000
DTSTAMP:20260419T172820
CREATED:20260105T185529Z
LAST-MODIFIED:20260105T185529Z
UID:10000592-1769248800-1769270400@www.wisconsinmaritime.org
SUMMARY:Living History Tours aboard USS COBIA
DESCRIPTION:Join us on Saturday\, January 24th\, for Living History Tours aboard USS COBIA! \nMembers of the USS COBIA Living History Crew will be stationed throughout the submarine all day (10:00 AM-4:00 PM) to welcome guests and answer questions. \n Admission is included with regular Museum + Submarine admission. WMM Members are always FREE!
URL:https://www.wisconsinmaritime.org/event/living-history-tours-aboard-uss-cobia/
LOCATION:Wisconsin Maritime Museum
CATEGORIES:Special Tours
ATTACH;FMTTYPE=image/jpeg:https://www.wisconsinmaritime.org/wp-content/uploads/2026/01/Living-History-Tours-.jpg
END:VEVENT
END:VCALENDAR