BEGIN:VCALENDAR
VERSION:2.0
PRODID:-//Wisconsin Maritime Museum - ECPv6.15.18//NONSGML v1.0//EN
CALSCALE:GREGORIAN
METHOD:PUBLISH
X-WR-CALNAME:Wisconsin Maritime Museum
X-ORIGINAL-URL:https://www.wisconsinmaritime.org
X-WR-CALDESC:Events for Wisconsin Maritime Museum
REFRESH-INTERVAL;VALUE=DURATION:PT1H
X-Robots-Tag:noindex
X-PUBLISHED-TTL:PT1H
BEGIN:VTIMEZONE
TZID:America/Chicago
BEGIN:DAYLIGHT
TZOFFSETFROM:-0600
TZOFFSETTO:-0500
TZNAME:CDT
DTSTART:20250309T080000
END:DAYLIGHT
BEGIN:STANDARD
TZOFFSETFROM:-0500
TZOFFSETTO:-0600
TZNAME:CST
DTSTART:20251102T070000
END:STANDARD
BEGIN:DAYLIGHT
TZOFFSETFROM:-0600
TZOFFSETTO:-0500
TZNAME:CDT
DTSTART:20260308T080000
END:DAYLIGHT
BEGIN:STANDARD
TZOFFSETFROM:-0500
TZOFFSETTO:-0600
TZNAME:CST
DTSTART:20261101T070000
END:STANDARD
BEGIN:DAYLIGHT
TZOFFSETFROM:-0600
TZOFFSETTO:-0500
TZNAME:CDT
DTSTART:20270314T080000
END:DAYLIGHT
BEGIN:STANDARD
TZOFFSETFROM:-0500
TZOFFSETTO:-0600
TZNAME:CST
DTSTART:20271107T070000
END:STANDARD
END:VTIMEZONE
BEGIN:VEVENT
DTSTART;TZID=America/Chicago:20260328T100000
DTEND;TZID=America/Chicago:20260328T160000
DTSTAMP:20260419T072741
CREATED:20260224T161946Z
LAST-MODIFIED:20260224T162515Z
UID:10000606-1774692000-1774713600@www.wisconsinmaritime.org
SUMMARY:USS COBIA's 83rd Birthday Party!
DESCRIPTION:Join us on Saturday\, March 28th\, as we celebrate 83 years of USS Cobia. This annual “birthday party” is a community event\, offering a full day of family-friendly fun\, history\, and maritime tradition. \nFor just $10 admission all day\, you can explore the museum\, tour the submarine with our Living History Crew\, and take part in carnival fun. Whether you’re putting your naval knowledge to the test\, racing for glory in the Rubber Duck Derby\, or enjoying a slice of birthday cake\, there is something for every sailor! \nSchedule of festivities:\n10:00AM: Museum and USS Cobia open\n11:00AM: Cobia Carnival Games open in the Wisconsin-Built Boat Gallery\n1:30PM: The Great Rubber Duck Derby\n2:30PM: Birthday song and cake-cutting with Submarine Curator\, Karen Duvalle\n4:00PM: Museum and USS Cobia close \nBirthday cake is generously donated by Hartman’s Bakery in Manitowoc. \nDiscounted admission is generously provided by the Helen Gajdys Reis & Lester Reis Endowment Fund.
URL:https://www.wisconsinmaritime.org/event/uss-cobias-83rd-birthday-party/
LOCATION:Wisconsin Maritime Museum
ATTACH;FMTTYPE=image/jpeg:https://www.wisconsinmaritime.org/wp-content/uploads/2026/02/2.jpg
END:VEVENT
END:VCALENDAR