BEGIN:VCALENDAR
VERSION:2.0
PRODID:-//Wisconsin Maritime Museum - ECPv6.15.18//NONSGML v1.0//EN
CALSCALE:GREGORIAN
METHOD:PUBLISH
X-WR-CALNAME:Wisconsin Maritime Museum
X-ORIGINAL-URL:https://www.wisconsinmaritime.org
X-WR-CALDESC:Events for Wisconsin Maritime Museum
REFRESH-INTERVAL;VALUE=DURATION:PT1H
X-Robots-Tag:noindex
X-PUBLISHED-TTL:PT1H
BEGIN:VTIMEZONE
TZID:America/Chicago
BEGIN:DAYLIGHT
TZOFFSETFROM:-0600
TZOFFSETTO:-0500
TZNAME:CDT
DTSTART:20250309T080000
END:DAYLIGHT
BEGIN:STANDARD
TZOFFSETFROM:-0500
TZOFFSETTO:-0600
TZNAME:CST
DTSTART:20251102T070000
END:STANDARD
BEGIN:DAYLIGHT
TZOFFSETFROM:-0600
TZOFFSETTO:-0500
TZNAME:CDT
DTSTART:20260308T080000
END:DAYLIGHT
BEGIN:STANDARD
TZOFFSETFROM:-0500
TZOFFSETTO:-0600
TZNAME:CST
DTSTART:20261101T070000
END:STANDARD
BEGIN:DAYLIGHT
TZOFFSETFROM:-0600
TZOFFSETTO:-0500
TZNAME:CDT
DTSTART:20270314T080000
END:DAYLIGHT
BEGIN:STANDARD
TZOFFSETFROM:-0500
TZOFFSETTO:-0600
TZNAME:CST
DTSTART:20271107T070000
END:STANDARD
END:VTIMEZONE
BEGIN:VEVENT
DTSTART;TZID=America/Chicago:20260326T170000
DTEND;TZID=America/Chicago:20260326T183000
DTSTAMP:20260419T072102
CREATED:20260223T221603Z
LAST-MODIFIED:20260223T221603Z
UID:10000603-1774544400-1774549800@www.wisconsinmaritime.org
SUMMARY:Shipwrecks & Charcuterie
DESCRIPTION:Have you ever wondered how an artifact gets from the bottom of Lake Michigan to a display case in a museum exhibit? Join conservator Katie Linder for a discussion about the collection of 10\,000 shipwreck artifacts brought to the surface by Allen ‘Butch’ Klopp in the 1960s. In her presentation\, she will show you the complex behind-the-scenes work to preserve these remarkable artifacts. \nSpace is limited and advanced registration is required. Tickets are $35 for WMM Members and $40 for non-members. Tickets are available in person or online. \n \nPurchase Tickets Here
URL:https://www.wisconsinmaritime.org/event/shipwrecks-charcuterie/
LOCATION:Wisconsin Maritime Museum
CATEGORIES:Admission
ATTACH;FMTTYPE=image/jpeg:https://www.wisconsinmaritime.org/wp-content/uploads/2026/02/Shipwrecks-Charcuterie.jpg
END:VEVENT
END:VCALENDAR