BEGIN:VCALENDAR
VERSION:2.0
PRODID:-//Wisconsin Maritime Museum - ECPv6.15.18//NONSGML v1.0//EN
CALSCALE:GREGORIAN
METHOD:PUBLISH
X-WR-CALNAME:Wisconsin Maritime Museum
X-ORIGINAL-URL:https://www.wisconsinmaritime.org
X-WR-CALDESC:Events for Wisconsin Maritime Museum
REFRESH-INTERVAL;VALUE=DURATION:PT1H
X-Robots-Tag:noindex
X-PUBLISHED-TTL:PT1H
BEGIN:VTIMEZONE
TZID:America/Chicago
BEGIN:DAYLIGHT
TZOFFSETFROM:-0600
TZOFFSETTO:-0500
TZNAME:CDT
DTSTART:20250309T080000
END:DAYLIGHT
BEGIN:STANDARD
TZOFFSETFROM:-0500
TZOFFSETTO:-0600
TZNAME:CST
DTSTART:20251102T070000
END:STANDARD
BEGIN:DAYLIGHT
TZOFFSETFROM:-0600
TZOFFSETTO:-0500
TZNAME:CDT
DTSTART:20260308T080000
END:DAYLIGHT
BEGIN:STANDARD
TZOFFSETFROM:-0500
TZOFFSETTO:-0600
TZNAME:CST
DTSTART:20261101T070000
END:STANDARD
BEGIN:DAYLIGHT
TZOFFSETFROM:-0600
TZOFFSETTO:-0500
TZNAME:CDT
DTSTART:20270314T080000
END:DAYLIGHT
BEGIN:STANDARD
TZOFFSETFROM:-0500
TZOFFSETTO:-0600
TZNAME:CST
DTSTART:20271107T070000
END:STANDARD
END:VTIMEZONE
BEGIN:VEVENT
DTSTART;TZID=America/Chicago:20260215T123000
DTEND;TZID=America/Chicago:20260215T153000
DTSTAMP:20260419T090830
CREATED:20260120T184427Z
LAST-MODIFIED:20260121T152143Z
UID:10000599-1771158600-1771169400@www.wisconsinmaritime.org
SUMMARY:Diving Deeper Tour
DESCRIPTION:Join submarine veteran Greg Miller on an in-depth tour aboard the USS COBIA! You can learn what it was really like living and working on a submarine with 80 other crew members for over two months at a time from someone who experienced a diesel boat\, just our very own COBIA. This two-hour tour focuses more on personal stories\, so feel free to ask Greg all of your submarine questions!\n\nThe cost is $35 for non-members and $30 for WMM Members. Space is limited\, so reservations are required. Reserve your tickets here: https://bit.ly/44leQVX\n\nPlease note that this tour is not recommended for children under 12 due to its length
URL:https://www.wisconsinmaritime.org/event/diving-deeper-tour/
LOCATION:Wisconsin Maritime Museum
ATTACH;FMTTYPE=image/jpeg:https://www.wisconsinmaritime.org/wp-content/uploads/2026/01/Diving-Deeper-Feb-15th.jpg
END:VEVENT
END:VCALENDAR