BEGIN:VCALENDAR
VERSION:2.0
PRODID:-//Wisconsin Maritime Museum - ECPv6.15.18//NONSGML v1.0//EN
CALSCALE:GREGORIAN
METHOD:PUBLISH
X-ORIGINAL-URL:https://www.wisconsinmaritime.org
X-WR-CALDESC:Events for Wisconsin Maritime Museum
REFRESH-INTERVAL;VALUE=DURATION:PT1H
X-Robots-Tag:noindex
X-PUBLISHED-TTL:PT1H
BEGIN:VTIMEZONE
TZID:America/Chicago
BEGIN:DAYLIGHT
TZOFFSETFROM:-0600
TZOFFSETTO:-0500
TZNAME:CDT
DTSTART:20250309T080000
END:DAYLIGHT
BEGIN:STANDARD
TZOFFSETFROM:-0500
TZOFFSETTO:-0600
TZNAME:CST
DTSTART:20251102T070000
END:STANDARD
BEGIN:DAYLIGHT
TZOFFSETFROM:-0600
TZOFFSETTO:-0500
TZNAME:CDT
DTSTART:20260308T080000
END:DAYLIGHT
BEGIN:STANDARD
TZOFFSETFROM:-0500
TZOFFSETTO:-0600
TZNAME:CST
DTSTART:20261101T070000
END:STANDARD
BEGIN:DAYLIGHT
TZOFFSETFROM:-0600
TZOFFSETTO:-0500
TZNAME:CDT
DTSTART:20270314T080000
END:DAYLIGHT
BEGIN:STANDARD
TZOFFSETFROM:-0500
TZOFFSETTO:-0600
TZNAME:CST
DTSTART:20271107T070000
END:STANDARD
END:VTIMEZONE
BEGIN:VEVENT
DTSTART;TZID=America/Chicago:20260212T183000
DTEND;TZID=America/Chicago:20260212T210000
DTSTAMP:20260419T090948
CREATED:20260119T195122Z
LAST-MODIFIED:20260119T195719Z
UID:10000595-1770921000-1770930000@www.wisconsinmaritime.org
SUMMARY:Valenwine & Paint
DESCRIPTION:Looking for some cute Valentine’s\, Gal-entine’s or Pal-entine’s week ideas? Look no further! The Wisconsin Maritime Museum is partnering with Manitowoc’s local art studio\, Glaze and Paint for a casual evening of painting\, wine\, charcuterie\, and fun! Each admission will cover two people (so grab your partner\, friend\, or any companion to join you)\, all materials\, and two glasses of wine. \nThere will also be charcuterie and access to a cash bar\, with both alcoholic and NA beverages\, during the event (please remember you must be 21+ in order to drink\, so have your ID with you). \nPurchase your tickets here: https://shop.wisconsinmaritime.org/product/valenwine-paint-2026/XVVLW2YN66H6J52H5QPDIYPM?cp=true&sa=false&sbp=false&q=false&category_id=34
URL:https://www.wisconsinmaritime.org/event/valenwine-paint/
LOCATION:Wisconsin Maritime Museum
CATEGORIES:Adult
ATTACH;FMTTYPE=image/jpeg:https://www.wisconsinmaritime.org/wp-content/uploads/2026/01/Social-Media-Post-1-2.jpg
END:VEVENT
END:VCALENDAR